BEGIN:VCALENDAR
VERSION:2.0
PRODID:-//Sugarland Run Homeowners Association - ECPv6.15.20//NONSGML v1.0//EN
CALSCALE:GREGORIAN
METHOD:PUBLISH
X-ORIGINAL-URL:https://srhoa.com
X-WR-CALDESC:Events for Sugarland Run Homeowners Association
REFRESH-INTERVAL;VALUE=DURATION:PT1H
X-Robots-Tag:noindex
X-PUBLISHED-TTL:PT1H
BEGIN:VTIMEZONE
TZID:UTC
BEGIN:STANDARD
TZOFFSETFROM:+0000
TZOFFSETTO:+0000
TZNAME:UTC
DTSTART:20240101T000000
END:STANDARD
END:VTIMEZONE
BEGIN:VEVENT
DTSTART;VALUE=DATE:20250902
DTEND;VALUE=DATE:20250903
DTSTAMP:20260421T214838
CREATED:20250915T181418Z
LAST-MODIFIED:20250916T233057Z
UID:4061-1756771200-1756857599@srhoa.com
SUMMARY:Pool Closes
DESCRIPTION:Pool Closes
URL:https://srhoa.com/event/pool-closes/
END:VEVENT
END:VCALENDAR