BEGIN:VCALENDAR
VERSION:2.0
PRODID:-//Sugarland Run Homeowners Association - ECPv6.15.20//NONSGML v1.0//EN
CALSCALE:GREGORIAN
METHOD:PUBLISH
X-WR-CALNAME:Sugarland Run Homeowners Association
X-ORIGINAL-URL:https://srhoa.com
X-WR-CALDESC:Events for Sugarland Run Homeowners Association
REFRESH-INTERVAL;VALUE=DURATION:PT1H
X-Robots-Tag:noindex
X-PUBLISHED-TTL:PT1H
BEGIN:VTIMEZONE
TZID:UTC
BEGIN:STANDARD
TZOFFSETFROM:+0000
TZOFFSETTO:+0000
TZNAME:UTC
DTSTART:20240101T000000
END:STANDARD
END:VTIMEZONE
BEGIN:VEVENT
DTSTART;TZID=UTC:20251207T110000
DTEND;TZID=UTC:20251207T140000
DTSTAMP:20260421T160716
CREATED:20251204T125417Z
LAST-MODIFIED:20251204T125417Z
UID:4691-1765105200-1765116000@srhoa.com
SUMMARY:Green Team – Invasive Plant Removal Training
DESCRIPTION:
URL:https://srhoa.com/event/green-team-invasive-plant-removal-training/
END:VEVENT
END:VCALENDAR