BEGIN:VCALENDAR
VERSION:2.0
PRODID:-//Sugarland Run Homeowners Association - ECPv6.15.20//NONSGML v1.0//EN
CALSCALE:GREGORIAN
METHOD:PUBLISH
X-WR-CALNAME:Sugarland Run Homeowners Association
X-ORIGINAL-URL:https://srhoa.com
X-WR-CALDESC:Events for Sugarland Run Homeowners Association
REFRESH-INTERVAL;VALUE=DURATION:PT1H
X-Robots-Tag:noindex
X-PUBLISHED-TTL:PT1H
BEGIN:VTIMEZONE
TZID:UTC
BEGIN:STANDARD
TZOFFSETFROM:+0000
TZOFFSETTO:+0000
TZNAME:UTC
DTSTART:20240101T000000
END:STANDARD
END:VTIMEZONE
BEGIN:VEVENT
DTSTART;TZID=UTC:20251227T143000
DTEND;TZID=UTC:20251227T143000
DTSTAMP:20260421T163019
CREATED:20251119T002638Z
LAST-MODIFIED:20251119T002638Z
UID:4680-1766845800-1766845800@srhoa.com
SUMMARY:SRTHOA Board Meeting #2 SRHOA Office Bldg
DESCRIPTION:
URL:https://srhoa.com/event/srthoa-board-meeting-2-srhoa-office-bldg/
END:VEVENT
END:VCALENDAR