BEGIN:VCALENDAR
VERSION:2.0
PRODID:-//Sugarland Run Homeowners Association - ECPv6.15.20//NONSGML v1.0//EN
CALSCALE:GREGORIAN
METHOD:PUBLISH
X-ORIGINAL-URL:https://srhoa.com
X-WR-CALDESC:Events for Sugarland Run Homeowners Association
REFRESH-INTERVAL;VALUE=DURATION:PT1H
X-Robots-Tag:noindex
X-PUBLISHED-TTL:PT1H
BEGIN:VTIMEZONE
TZID:UTC
BEGIN:STANDARD
TZOFFSETFROM:+0000
TZOFFSETTO:+0000
TZNAME:UTC
DTSTART:20250101T000000
END:STANDARD
END:VTIMEZONE
BEGIN:VEVENT
DTSTART;TZID=UTC:20260311T190000
DTEND;TZID=UTC:20260311T190000
DTSTAMP:20260421T111254
CREATED:20260306T083409Z
LAST-MODIFIED:20260306T083409Z
UID:4855-1773255600-1773255600@srhoa.com
SUMMARY:THOA Meeting 7 PM
DESCRIPTION:
URL:https://srhoa.com/event/thoa-meeting-7-pm/
END:VEVENT
END:VCALENDAR