BEGIN:VCALENDAR
VERSION:2.0
PRODID:-//Sugarland Run Homeowners Association - ECPv6.15.20//NONSGML v1.0//EN
CALSCALE:GREGORIAN
METHOD:PUBLISH
X-WR-CALNAME:Sugarland Run Homeowners Association
X-ORIGINAL-URL:https://srhoa.com
X-WR-CALDESC:Events for Sugarland Run Homeowners Association
REFRESH-INTERVAL;VALUE=DURATION:PT1H
X-Robots-Tag:noindex
X-PUBLISHED-TTL:PT1H
BEGIN:VTIMEZONE
TZID:UTC
BEGIN:STANDARD
TZOFFSETFROM:+0000
TZOFFSETTO:+0000
TZNAME:UTC
DTSTART:20240101T000000
END:STANDARD
END:VTIMEZONE
BEGIN:VEVENT
DTSTART;TZID=UTC:20251112T183000
DTEND;TZID=UTC:20251112T183000
DTSTAMP:20260421T163109
CREATED:20251118T235941Z
LAST-MODIFIED:20251118T235941Z
UID:4650-1762972200-1762972200@srhoa.com
SUMMARY:HOA Annual Meeting
DESCRIPTION:
URL:https://srhoa.com/event/hoa-annual-meeting/
END:VEVENT
BEGIN:VEVENT
DTSTART;TZID=UTC:20251113T190000
DTEND;TZID=UTC:20251113T190000
DTSTAMP:20260421T163109
CREATED:20251119T000040Z
LAST-MODIFIED:20251119T000040Z
UID:4652-1763060400-1763060400@srhoa.com
SUMMARY:THOA Meeting
DESCRIPTION:
URL:https://srhoa.com/event/thoa-meeting-3/
END:VEVENT
BEGIN:VEVENT
DTSTART;TZID=UTC:20251119T183000
DTEND;TZID=UTC:20251119T183000
DTSTAMP:20260421T163109
CREATED:20251119T000120Z
LAST-MODIFIED:20251119T000120Z
UID:4654-1763577000-1763577000@srhoa.com
SUMMARY:HOA Meeting
DESCRIPTION:
URL:https://srhoa.com/event/hoa-meeting-5/
END:VEVENT
BEGIN:VEVENT
DTSTART;TZID=UTC:20251126T080000
DTEND;TZID=UTC:20251126T120000
DTSTAMP:20260421T163109
CREATED:20251119T000256Z
LAST-MODIFIED:20251119T000256Z
UID:4658-1764144000-1764158400@srhoa.com
SUMMARY:Office Hours
DESCRIPTION:
URL:https://srhoa.com/event/office-hours/
END:VEVENT
BEGIN:VEVENT
DTSTART;TZID=UTC:20251126T193000
DTEND;TZID=UTC:20251126T193000
DTSTAMP:20260421T163109
CREATED:20251119T000159Z
LAST-MODIFIED:20251119T000159Z
UID:4656-1764185400-1764185400@srhoa.com
SUMMARY:CAC Meeting
DESCRIPTION:
URL:https://srhoa.com/event/cac-meeting-3/
END:VEVENT
BEGIN:VEVENT
DTSTART;VALUE=DATE:20251127
DTEND;VALUE=DATE:20251128
DTSTAMP:20260421T163109
CREATED:20251119T000325Z
LAST-MODIFIED:20251119T000325Z
UID:4660-1764201600-1764287999@srhoa.com
SUMMARY:Thanksgiving Office Closed
DESCRIPTION:
URL:https://srhoa.com/event/thanksgiving-office-closed/
END:VEVENT
BEGIN:VEVENT
DTSTART;VALUE=DATE:20251128
DTEND;VALUE=DATE:20251129
DTSTAMP:20260421T163109
CREATED:20251119T000354Z
LAST-MODIFIED:20251119T000354Z
UID:4662-1764288000-1764374399@srhoa.com
SUMMARY:Office Closed
DESCRIPTION:
URL:https://srhoa.com/event/office-closed/
END:VEVENT
END:VCALENDAR