BEGIN:VCALENDAR
VERSION:2.0
PRODID:-//Sugarland Run Homeowners Association - ECPv6.15.20//NONSGML v1.0//EN
CALSCALE:GREGORIAN
METHOD:PUBLISH
X-ORIGINAL-URL:https://srhoa.com
X-WR-CALDESC:Events for Sugarland Run Homeowners Association
REFRESH-INTERVAL;VALUE=DURATION:PT1H
X-Robots-Tag:noindex
X-PUBLISHED-TTL:PT1H
BEGIN:VTIMEZONE
TZID:UTC
BEGIN:STANDARD
TZOFFSETFROM:+0000
TZOFFSETTO:+0000
TZNAME:UTC
DTSTART:20250101T000000
END:STANDARD
END:VTIMEZONE
BEGIN:VEVENT
DTSTART;VALUE=DATE:20260101
DTEND;VALUE=DATE:20260103
DTSTAMP:20260421T124941
CREATED:20251213T111921Z
LAST-MODIFIED:20251213T111921Z
UID:4713-1767225600-1767398399@srhoa.com
SUMMARY:Office Closed
DESCRIPTION:
URL:https://srhoa.com/event/office-closed-3/
END:VEVENT
BEGIN:VEVENT
DTSTART;TZID=UTC:20260107T183000
DTEND;TZID=UTC:20260107T183000
DTSTAMP:20260421T124941
CREATED:20251220T084444Z
LAST-MODIFIED:20251220T084444Z
UID:4717-1767810600-1767810600@srhoa.com
SUMMARY:HOA Board Meeting
DESCRIPTION:
URL:https://srhoa.com/event/hoa-board-meeting/
END:VEVENT
BEGIN:VEVENT
DTSTART;TZID=UTC:20260113T190000
DTEND;TZID=UTC:20260113T190000
DTSTAMP:20260421T124941
CREATED:20251220T084529Z
LAST-MODIFIED:20251220T084529Z
UID:4719-1768330800-1768330800@srhoa.com
SUMMARY:ARC Meeting
DESCRIPTION:
URL:https://srhoa.com/event/arc-meeting-4/
END:VEVENT
BEGIN:VEVENT
DTSTART;TZID=UTC:20260114T190000
DTEND;TZID=UTC:20260114T190000
DTSTAMP:20260421T124941
CREATED:20251220T084557Z
LAST-MODIFIED:20251220T084557Z
UID:4721-1768417200-1768417200@srhoa.com
SUMMARY:THOA Board Meeting
DESCRIPTION:
URL:https://srhoa.com/event/thoa-board-meeting/
END:VEVENT
BEGIN:VEVENT
DTSTART;TZID=UTC:20260121T183000
DTEND;TZID=UTC:20260121T183000
DTSTAMP:20260421T124941
CREATED:20251220T084629Z
LAST-MODIFIED:20251220T084629Z
UID:4724-1769020200-1769020200@srhoa.com
SUMMARY:HOA Board Meeting
DESCRIPTION:
URL:https://srhoa.com/event/hoa-board-meeting-2/
END:VEVENT
BEGIN:VEVENT
DTSTART;TZID=UTC:20260127T190000
DTEND;TZID=UTC:20260127T190000
DTSTAMP:20260421T124941
CREATED:20251220T084702Z
LAST-MODIFIED:20251220T085927Z
UID:4726-1769540400-1769540400@srhoa.com
SUMMARY:Green Team Meeting Room A
DESCRIPTION:
URL:https://srhoa.com/event/green-team-meeting-room-a/
END:VEVENT
BEGIN:VEVENT
DTSTART;TZID=UTC:20260128T193000
DTEND;TZID=UTC:20260128T193000
DTSTAMP:20260421T124941
CREATED:20251220T084738Z
LAST-MODIFIED:20251220T084738Z
UID:4728-1769628600-1769628600@srhoa.com
SUMMARY:CAC Meeting
DESCRIPTION:
URL:https://srhoa.com/event/cac-meeting-5/
END:VEVENT
END:VCALENDAR