BEGIN:VCALENDAR
VERSION:2.0
PRODID:-//Sugarland Run Homeowners Association - ECPv6.15.20//NONSGML v1.0//EN
CALSCALE:GREGORIAN
METHOD:PUBLISH
X-ORIGINAL-URL:https://srhoa.com
X-WR-CALDESC:Events for Sugarland Run Homeowners Association
REFRESH-INTERVAL;VALUE=DURATION:PT1H
X-Robots-Tag:noindex
X-PUBLISHED-TTL:PT1H
BEGIN:VTIMEZONE
TZID:UTC
BEGIN:STANDARD
TZOFFSETFROM:+0000
TZOFFSETTO:+0000
TZNAME:UTC
DTSTART:20250101T000000
END:STANDARD
END:VTIMEZONE
BEGIN:VEVENT
DTSTART;TZID=UTC:20260204T183000
DTEND;TZID=UTC:20260204T183000
DTSTAMP:20260421T111311
CREATED:20260204T065538Z
LAST-MODIFIED:20260204T065538Z
UID:4822-1770229800-1770229800@srhoa.com
SUMMARY:HOA Meeting
DESCRIPTION:
URL:https://srhoa.com/event/hoa-meeting-8/
END:VEVENT
BEGIN:VEVENT
DTSTART;TZID=UTC:20260210T190000
DTEND;TZID=UTC:20260210T190000
DTSTAMP:20260421T111311
CREATED:20260204T065628Z
LAST-MODIFIED:20260204T065628Z
UID:4825-1770750000-1770750000@srhoa.com
SUMMARY:ARC Meeting
DESCRIPTION:
URL:https://srhoa.com/event/arc-meeting-5/
END:VEVENT
BEGIN:VEVENT
DTSTART;TZID=UTC:20260211T190000
DTEND;TZID=UTC:20260211T190000
DTSTAMP:20260421T111311
CREATED:20260204T065656Z
LAST-MODIFIED:20260204T065656Z
UID:4827-1770836400-1770836400@srhoa.com
SUMMARY:THOA Meeting
DESCRIPTION:
URL:https://srhoa.com/event/thoa-meeting-5/
END:VEVENT
BEGIN:VEVENT
DTSTART;TZID=UTC:20260218T183000
DTEND;TZID=UTC:20260218T183000
DTSTAMP:20260421T111311
CREATED:20260204T065859Z
LAST-MODIFIED:20260204T065859Z
UID:4829-1771439400-1771439400@srhoa.com
SUMMARY:HOA Meeting
DESCRIPTION:
URL:https://srhoa.com/event/hoa-meeting-9/
END:VEVENT
BEGIN:VEVENT
DTSTART;TZID=UTC:20260224T190000
DTEND;TZID=UTC:20260224T190000
DTSTAMP:20260421T111311
CREATED:20260204T065941Z
LAST-MODIFIED:20260204T065941Z
UID:4831-1771959600-1771959600@srhoa.com
SUMMARY:Green Team Meeting
DESCRIPTION:
URL:https://srhoa.com/event/green-team-meeting/
END:VEVENT
BEGIN:VEVENT
DTSTART;TZID=UTC:20260225T193000
DTEND;TZID=UTC:20260225T193000
DTSTAMP:20260421T111311
CREATED:20260204T070018Z
LAST-MODIFIED:20260204T070018Z
UID:4834-1772047800-1772047800@srhoa.com
SUMMARY:CAC Meeting
DESCRIPTION:
URL:https://srhoa.com/event/cac-meeting-6/
END:VEVENT
BEGIN:VEVENT
DTSTART;TZID=UTC:20260228T143000
DTEND;TZID=UTC:20260228T143000
DTSTAMP:20260421T111311
CREATED:20260204T070047Z
LAST-MODIFIED:20260204T070047Z
UID:4837-1772289000-1772289000@srhoa.com
SUMMARY:SRTHOA 2nd Board
DESCRIPTION:
URL:https://srhoa.com/event/srthoa-2nd-board/
END:VEVENT
END:VCALENDAR