BEGIN:VCALENDAR
VERSION:2.0
PRODID:-//Sugarland Run Homeowners Association - ECPv6.15.20//NONSGML v1.0//EN
CALSCALE:GREGORIAN
METHOD:PUBLISH
X-ORIGINAL-URL:https://srhoa.com
X-WR-CALDESC:Events for Sugarland Run Homeowners Association
REFRESH-INTERVAL;VALUE=DURATION:PT1H
X-Robots-Tag:noindex
X-PUBLISHED-TTL:PT1H
BEGIN:VTIMEZONE
TZID:UTC
BEGIN:STANDARD
TZOFFSETFROM:+0000
TZOFFSETTO:+0000
TZNAME:UTC
DTSTART:20250101T000000
END:STANDARD
END:VTIMEZONE
BEGIN:VEVENT
DTSTART;TZID=UTC:20260304T183000
DTEND;TZID=UTC:20260304T183000
DTSTAMP:20260421T092527
CREATED:20260306T083151Z
LAST-MODIFIED:20260306T083151Z
UID:4851-1772649000-1772649000@srhoa.com
SUMMARY:HOA Meeting 6:30 PM
DESCRIPTION:
URL:https://srhoa.com/event/hoa-meeting-630-pm/
END:VEVENT
BEGIN:VEVENT
DTSTART;TZID=UTC:20260310T190000
DTEND;TZID=UTC:20260310T190000
DTSTAMP:20260421T092527
CREATED:20260306T083303Z
LAST-MODIFIED:20260306T083303Z
UID:4853-1773169200-1773169200@srhoa.com
SUMMARY:ARC Meeting 7 PM
DESCRIPTION:
URL:https://srhoa.com/event/arc-meeting-7-pm/
END:VEVENT
BEGIN:VEVENT
DTSTART;TZID=UTC:20260311T190000
DTEND;TZID=UTC:20260311T190000
DTSTAMP:20260421T092527
CREATED:20260306T083409Z
LAST-MODIFIED:20260306T083409Z
UID:4855-1773255600-1773255600@srhoa.com
SUMMARY:THOA Meeting 7 PM
DESCRIPTION:
URL:https://srhoa.com/event/thoa-meeting-7-pm/
END:VEVENT
BEGIN:VEVENT
DTSTART;TZID=UTC:20260318T183000
DTEND;TZID=UTC:20260318T183000
DTSTAMP:20260421T092527
CREATED:20260306T083449Z
LAST-MODIFIED:20260306T083449Z
UID:4857-1773858600-1773858600@srhoa.com
SUMMARY:HOA Meeting 6:30 PM
DESCRIPTION:
URL:https://srhoa.com/event/hoa-meeting-630-pm-2/
END:VEVENT
BEGIN:VEVENT
DTSTART;TZID=UTC:20260324T190000
DTEND;TZID=UTC:20260324T190000
DTSTAMP:20260421T092527
CREATED:20260306T083521Z
LAST-MODIFIED:20260306T083521Z
UID:4859-1774378800-1774378800@srhoa.com
SUMMARY:Green Team Meeting 7 PM
DESCRIPTION:
URL:https://srhoa.com/event/green-team-meeting-7-pm/
END:VEVENT
BEGIN:VEVENT
DTSTART;TZID=UTC:20260325T193000
DTEND;TZID=UTC:20260325T193000
DTSTAMP:20260421T092527
CREATED:20260306T083700Z
LAST-MODIFIED:20260306T083700Z
UID:4861-1774467000-1774467000@srhoa.com
SUMMARY:CAC Meeting 7:30 PM
DESCRIPTION:
URL:https://srhoa.com/event/cac-meeting-730-pm/
END:VEVENT
BEGIN:VEVENT
DTSTART;TZID=UTC:20260329T143000
DTEND;TZID=UTC:20260329T143000
DTSTAMP:20260421T092527
CREATED:20260306T083744Z
LAST-MODIFIED:20260306T083744Z
UID:4863-1774794600-1774794600@srhoa.com
SUMMARY:SRTHOA 2nd Board Meeting 2:30 PM
DESCRIPTION:
URL:https://srhoa.com/event/srthoa-2nd-board-meeting-230-pm/
END:VEVENT
END:VCALENDAR